BEGIN:VCALENDAR
VERSION:2.0
PRODID:-//FAIE - ECPv5.1.6//NONSGML v1.0//EN
CALSCALE:GREGORIAN
METHOD:PUBLISH
X-WR-CALNAME:FAIE
X-ORIGINAL-URL:https://www.mmu.edu.my/faie
X-WR-CALDESC:Events for FAIE
BEGIN:VTIMEZONE
TZID:Asia/Kuala_Lumpur
BEGIN:STANDARD
TZOFFSETFROM:+0800
TZOFFSETTO:+0800
TZNAME:+08
DTSTART:20260101T000000
END:STANDARD
END:VTIMEZONE
BEGIN:VEVENT
DTSTART;TZID=Asia/Kuala_Lumpur:20260424T090000
DTEND;TZID=Asia/Kuala_Lumpur:20260424T130000
DTSTAMP:20260420T094646
CREATED:20260317T072340Z
LAST-MODIFIED:20260317T072340Z
UID:20750-1777021200-1777035600@www.mmu.edu.my
SUMMARY:FAIE Short Courses: Python for Non-Programmers
DESCRIPTION:Our short courses are customized for students\, with the following objectives: \n1. To help students enhance their understanding and knowledge of certain topics related to Engineering\n2. To develop and improve technical skills\, such as programming (MATLAB and Python) and software proficiency (AutoCAD)\n3. To develop important soft skills\, such as presentation and communication skills (oral presentation and website design) \nCertificates of attendance will be provided\, and special rates are also available to all MMU students. \nRegister now! \nYou may directly register for the short courses via the registration link provided for each short course. The fee and detailed course information can also be found in the relevant registration forms. \nFeel free to browse the range of short courses offered\, and please do not hesitate to contact us if you have any further inquiries. \nContact person: \nMs. Low Pei Ling | +6 03-8312 5007 | pllow@mmu.edu.my \n 
URL:https://www.mmu.edu.my/faie/event/faie-short-courses-python-for-non-programmers/
LOCATION:MMU
ATTACH;FMTTYPE=image/png:https://www.mmu.edu.my/faie/wp-content/uploads/2026/03/Poster_Python-for-Non-Programmers_24Apr26-conv-1.png
END:VEVENT
END:VCALENDAR