BEGIN:VCALENDAR
VERSION:2.0
PRODID:-//FAIE - ECPv5.1.6//NONSGML v1.0//EN
CALSCALE:GREGORIAN
METHOD:PUBLISH
X-WR-CALNAME:FAIE
X-ORIGINAL-URL:https://www.mmu.edu.my/faie
X-WR-CALDESC:Events for FAIE
BEGIN:VTIMEZONE
TZID:Asia/Kuala_Lumpur
BEGIN:STANDARD
TZOFFSETFROM:+0800
TZOFFSETTO:+0800
TZNAME:+08
DTSTART:20240101T000000
END:STANDARD
END:VTIMEZONE
BEGIN:VEVENT
DTSTART;TZID=Asia/Kuala_Lumpur:20240313T080000
DTEND;TZID=Asia/Kuala_Lumpur:20240415T170000
DTSTAMP:20260424T212902
CREATED:20240313T054318Z
LAST-MODIFIED:20240320T044735Z
UID:18475-1710316800-1713200400@www.mmu.edu.my
SUMMARY:Invitation to Submit Abstract of MECON24
DESCRIPTION:Dear all\, \nIt is pleased to inform all of you that the 5th Multimedia University Engineering Conference (MECON2024) will be held from 23rd to 25th July 2024\, virtually. This year’s conference will be held virtually with the theme\, “Embracing the Future of a Smart World Through Engineering and Technology.” \nWe would like to cordially invite all of you to submit abstract at: \nhttps://forms.office.com/r/f8rQhUg2wx \n  \nMECON24 will be indexed in IEEE xplore Proceedings in collaboration with Technical co-sponsor IEEE Signal Processing Society Malaysia Chapter. We hope all of you could promote to your colleagues as your submission and participation would set the tone perfectly for our conference. \nFor any further information\, please kindly refer to our conference website at https://difcon.mmu.edu.my/. \nThank you.
URL:https://www.mmu.edu.my/faie/event/invitation-to-submit-abstract-of-mecon24/
LOCATION:MMU
ATTACH;FMTTYPE=image/jpeg:https://www.mmu.edu.my/faie/wp-content/uploads/2024/03/MECON-CFP-2024_v2.jpg
END:VEVENT
END:VCALENDAR