BEGIN:VCALENDAR
VERSION:2.0
PRODID:-//FAIE - ECPv5.1.6//NONSGML v1.0//EN
CALSCALE:GREGORIAN
METHOD:PUBLISH
X-WR-CALNAME:FAIE
X-ORIGINAL-URL:https://www.mmu.edu.my/faie
X-WR-CALDESC:Events for FAIE
BEGIN:VTIMEZONE
TZID:Asia/Kuala_Lumpur
BEGIN:STANDARD
TZOFFSETFROM:+0800
TZOFFSETTO:+0800
TZNAME:+08
DTSTART:20240101T000000
END:STANDARD
END:VTIMEZONE
BEGIN:VEVENT
DTSTART;TZID=Asia/Kuala_Lumpur:20241112T090000
DTEND;TZID=Asia/Kuala_Lumpur:20241112T110000
DTSTAMP:20260424T104119
CREATED:20241023T050223Z
LAST-MODIFIED:20241023T050223Z
UID:19209-1731402000-1731409200@www.mmu.edu.my
SUMMARY:FOE Industry Forum 2024
DESCRIPTION:Join us for the FOE Industry Forum 2024\, focused on Green Technology and Sustainable Practices in Malaysia. This forum is an excellent opportunity to broaden your knowledge of green technology and discover exciting career pathways. Don’t miss the chance to learn from industry leaders and connect with fellow students. Scan to register—we can’t wait to see you there! \n 
URL:https://www.mmu.edu.my/faie/event/foe-industry-forum-2024/
LOCATION:MMU
ATTACH;FMTTYPE=image/jpeg:https://www.mmu.edu.my/faie/wp-content/uploads/2024/10/Forum-Poster_potrait.jpeg
END:VEVENT
END:VCALENDAR