BEGIN:VCALENDAR
VERSION:2.0
PRODID:-//FAIE - ECPv5.1.6//NONSGML v1.0//EN
CALSCALE:GREGORIAN
METHOD:PUBLISH
X-WR-CALNAME:FAIE
X-ORIGINAL-URL:https://www.mmu.edu.my/faie
X-WR-CALDESC:Events for FAIE
BEGIN:VTIMEZONE
TZID:Asia/Kuala_Lumpur
BEGIN:STANDARD
TZOFFSETFROM:+0800
TZOFFSETTO:+0800
TZNAME:+08
DTSTART:20230101T000000
END:STANDARD
END:VTIMEZONE
BEGIN:VEVENT
DTSTART;TZID=Asia/Kuala_Lumpur:20231208T093000
DTEND;TZID=Asia/Kuala_Lumpur:20231208T233000
DTSTAMP:20260425T001721
CREATED:20231128T083730Z
LAST-MODIFIED:20240320T044736Z
UID:18184-1702027800-1702078200@www.mmu.edu.my
SUMMARY:FOE Industry Forum 2023
DESCRIPTION:You are cordially invited to the FOE Industry Forum 2023\, which will be held as follows.\nDate: 8th December 2023 (Friday)\nTime: 9.30 am – 11. 30 am\nVenue: Multipurpose Hall (MPH)\nTitle of the forum:  Artificial Intelligence in Healthcare: Recent Developments and Opportunities for Malaysia\n\nForum panelists:\n\n\nDr. Helmi Zakariah\, CEO Hayat Technologies Sdn Bhd\nMr. Jeffry Mohamad Noor\, Senior Principal Asst. Director\, Kementerian Kesihatan Malaysia\nIr. Prof. Dr. Mohammad Faizal Ahmad Fauzi\, Professor\, Faculty of Engineering\, MMU\nDr. Aziah Ali\, Faculty of Computing\, MMU (Moderator)\n\n\nThe poster of the event is attached. Digital certificates and 2 CPD hours will be awarded to the participants.\n\nPlease register here: https://rb.gy/trw7oj
URL:https://www.mmu.edu.my/faie/event/foe-industry-forum-2023/
LOCATION:MMU
ATTACH;FMTTYPE=image/jpeg:https://www.mmu.edu.my/faie/wp-content/uploads/2023/11/Ai-Healthcare_socmed-2.jpg
END:VEVENT
END:VCALENDAR