BEGIN:VCALENDAR
VERSION:2.0
PRODID:-//FAIE - ECPv5.1.6//NONSGML v1.0//EN
CALSCALE:GREGORIAN
METHOD:PUBLISH
X-WR-CALNAME:FAIE
X-ORIGINAL-URL:https://www.mmu.edu.my/faie
X-WR-CALDESC:Events for FAIE
BEGIN:VTIMEZONE
TZID:Asia/Kuala_Lumpur
BEGIN:STANDARD
TZOFFSETFROM:+0800
TZOFFSETTO:+0800
TZNAME:+08
DTSTART:20230101T000000
END:STANDARD
END:VTIMEZONE
BEGIN:VEVENT
DTSTART;TZID=Asia/Kuala_Lumpur:20230401T080000
DTEND;TZID=Asia/Kuala_Lumpur:20230630T170000
DTSTAMP:20260425T121145
CREATED:20230404T081206Z
LAST-MODIFIED:20240320T044736Z
UID:17391-1680336000-1688144400@www.mmu.edu.my
SUMMARY:4th Mutltiemdia University Engineering Conference (MECON2023)
DESCRIPTION:MECON2023 is open for submission. Join us in this exciting event.
URL:https://www.mmu.edu.my/faie/event/4th-mutltiemdia-university-engineering-conference-mecon2023/
LOCATION:MMU
ATTACH;FMTTYPE=image/jpeg:https://www.mmu.edu.my/faie/wp-content/uploads/2023/04/336164204_6568792013134175_5321542598891181402_n.jpg
END:VEVENT
END:VCALENDAR